Workbook

Sheet Montly Report
A1: Proforma for furnishing information/Declaration (Monthly) to the International Financial Services Centre (IFSC) Authority relating to operations of a Finance Company/Finance Unit authorized for setting up of ITFS platforms in the GIFT IFSC (to be furnished within 15 days' of end of Month)
A2: Note:
A3: i. Every financial reporting shall be in US Dollar (rounded off to the nearest Dollar), unless otherwise specified by the Authority;
A4: ii. Updated information for the period of report to be provided hereunder, including changes since submission of last report (if any). If no report has been submitted as yet, information as on date may be furnished.
A5: iii. In case a cell is higlighted, it indicates an invalid input. Please click on highlighted cell to read error message.
A6: iv. | B6: "Framework" means Framework for setting up of International Trade Financing Services Platform (‘ITFS’) for providing Trade Finance Services at International Financial Services Centres (‘IFSCs’).
A7: 1 | B7: Name of FC/FU (as per CoR)
A8: 2 | B8: COR granted for (for other trade product, mention name of activity in adjacent cell). Add additional rows for multiple products permitted.
A11: 3 | B11: For Year/Month ending | C11: Year | D11: Month
A12: 4 | B12: Day/Month/Year of submisison of Report | C12: Day | D12: Month | E12: Year
A13: 5 | B13: Date of submission of Report | D13: ='Validation Sheet'!H2 -> #VALUE!
A14: 6 | B14: For the period of report, have the requirements w.r.t.
A15: i | B15: Know Your Customer norms, combating of financing of terrorism and other anti-money laundering requirements, as specified in Clause G of the Regualtions been adhered to | D15: Yes/No
A16: ii | B16: Do all financiers onboarded on the platform qualify as financiers as defined in Para B(ii) of framework | D16: Yes/No
A17: 7 | B17: Onboarding of participants | C17: In current month | E17: Cumulative (from inception to current month)
C18: Number | E18: Number
C19: =SUM(C20:C24) -> 0 | E19: =SUM(E20:E24) -> 0
A20: i | B20: Exporters
A21: ii | B21: Importers
A22: iii | B22: Financiers
A23: iv | B23: Insurance/Credit Guarantee Institutions
A24: v | B24: Others eligible entities (please provide information for each separately)
A27: 8 | B27: Activity (mention name of activity in adjacent cell in case of other trade product) | D27: TFU (mention name of STD in adjacent cell in case of other trade document) | F27: Currency | G27: No. of transactions | H27: Value (in million USD) | I27: No. of transactions | J27: Value (in million USD) | K27: Country of beneficiary
G28: Current month | I28: Cumulative for Current FY
G29: =SUM(G30:G31) -> 0 | H29: =SUM(H30:H31) -> 0 | I29: =SUM(I30:I30) -> 0 | J29: =SUM(J30:J30) -> 0
A32: 9 | B32: Information on Financiers
B33: Name of Financier | C33: Country of incorporation / operations | D33: Name of Financial Regulator in the Country of incorporation/ operations | E33: No. of transactions | F33: Value (in million USD) | G33: No. of transactions | H33: Value (in million USD)
E34: Current month | G34: Cumulative for Current FY
E35: =SUM(E36:E37) -> 0 | F35: =SUM(F36:F37) -> 0 | G35: =SUM(G36:G37) -> 0 | H35: =SUM(H36:H37) -> 0
A39: 9 | B39: Information on Defaulters
B40: Name of Defaulter | C40: Country of defaulter | D40: Name of Financier against whom the default has been commited | E40: Total amount overdue (in million USD) | F40: No. of Days since the amount overdue | G40: Name of IFSCA ITFS platform entity(ies) with whom defaulter has/had previous association
A43: 10 | B43: Gross Income | E43: =SUM(E44:F45) -> 0
A44: i | B44: Revenue from operations
A45: ii | B45: Other income (please specify item wise and insert more rows if required) | E45: =SUM(E46:F47) -> 0
A48: 11 | B48: Total Expenses (i+ii) | E48: =SUM(E49:F50) -> 0
A49: i | B49: Staff Expenses
A50: ii | B50: Other Expenses
A51: 12 | B51: Operational surplus/deficit | E51: =E43-E48 -> 0
A52: 13 | B52: Provision for tax
A53: 14 | B53: Net profit / Net loss | E53: =E51-E52 -> 0
...

Sheet Validation Sheet
A1: Year | B1: Month | C1: Day | D1: Year | E1: Date of commencement | H1: Date of report
A2: 2020 | B2: January | C2: 1 | E2: 44282 | F2: Month No. | G2: Day | H2: =DATE('Montly Report'!E12,F4,G4) -> #VALUE!
A3: 2021 | B3: February | C3: 2 | E3: =YEAR(E2) -> 2021 | F3: =MONTH(E2) -> 3 | G3: =DAY(E2) -> 27 | H3: Date of year/month of report
A4: 2022 | B4: March | C4: 3 | E4: =YEAR(TODAY()) -> 2023 | F4: =MONTH(DATEVALUE('Montly Report'!D12 & "1")) -> #VALUE! | G4: =DAY('Montly Report'!C12) -> #VALUE! | H4: =DATE('Montly Report'!C11,H6,30) -> #VALUE!
A5: 2023 | B5: April | C5: 4 | E5: =IF(MOD(YEAR(E4),4)=0,IF(MOD(YEAR(E4),100)=0,IF(MOD(YEAR(E4),400)=0,TRUE,FALSE),TRUE),FALSE) -> FALSE | F5: LY | H5: Month of report | L5: Yes/No
A6: 2024 | B6: May | C6: 5 | E6: ='Montly Report'!C12>29 -> TRUE | F6: >29 | H6: =MONTH(DATEVALUE('Montly Report'!D11 & "1")) -> #VALUE! | L6: Yes
A7: 2025 | B7: June | C7: 6 | E7: ='Montly Report'!D12<>"February" -> TRUE | F7: Not Feb | L7: No
A8: 2026 | B8: July | C8: 7 | E8: =AND(E5=TRUE,E6=TRUE,E7=TRUE) -> FALSE | F8: ABOVE TRUE
A9: 2027 | B9: August | C9: 8 | E9: =AND('Montly Report'!C12>28,E7=FALSE) -> FALSE | F9: >28
A10: 2028 | B10: September | C10: 9 | E10: ='Montly Report'!C12>30 -> TRUE | F10: >30
A11: 2029 | B11: October | C11: 10 | E11: =OR('Montly Report'!D12="April",'Montly Report'!D12="June",'Montly Report'!D12="September",'Montly Report'!D12="November") -> FALSE | F11: BOTH TRUE
B12: November | C12: 11
B13: December | C13: 12
C14: 13
C15: 14 | H15: Export Invoice Trade Financing
C16: 15 | H16: Reverse Trade Financing
C17: 16 | H17: Bill discounting under Letter of Credit
C18: 17 | H18: Supply Chain Finance for Exporters
C19: 18 | H19: Export Credit (Packing Credit)
C20: 19 | H20: Insurance / Credit Guarantee
C21: 20 | H21: Factoring system
C22: 21 | H22: other trade product
C23: 22
C24: 23 | H24: Air Waybill
C25: 24 | H25: Bill of Lading
C26: 25 | H26: Certificate of Origin
C27: 26 | H27: Combined Transport Document
C28: 27 | H28: Draft (or Bill of Exchange)
C29: 28 | H29: Insurance Policy (or Certificate)
C30: 29 | H30: Packing List/Specification
C31: 30 | H31: Inspection Certificate
C32: 31 | H32: Invoice
H33: other trade document
